BEGIN:VCALENDAR
VERSION:2.0
PRODID:-//mnasrullah.com//Jadual//MS
CALSCALE:GREGORIAN
METHOD:PUBLISH
BEGIN:VEVENT
UID:ff3f9d17-40e1-4470-b358-d72195e2a8a5@mnasrullah.com
DTSTAMP:20260420T102400Z
DTSTART:20260708T110000Z
DTEND:20260708T120000Z
SUMMARY:KM - Masjid al-Mukarramah BSD
STATUS:CONFIRMED
LOCATION:Lokasi akan diumumkan
END:VEVENT
END:VCALENDAR