BEGIN:VCALENDAR
VERSION:2.0
PRODID:-//mnasrullah.com//Jadual//MS
CALSCALE:GREGORIAN
METHOD:PUBLISH
BEGIN:VEVENT
UID:f9e4c507-179e-49d6-b84c-abd0e3ac2234@mnasrullah.com
DTSTAMP:20260420T102544Z
DTSTART:20261014T110000Z
DTEND:20261014T120000Z
SUMMARY:KM - Masjid al-Mukarramah BSD
STATUS:CONFIRMED
LOCATION:Lokasi akan diumumkan
END:VEVENT
END:VCALENDAR