BEGIN:VCALENDAR
VERSION:2.0
PRODID:-//mnasrullah.com//Jadual//MS
CALSCALE:GREGORIAN
METHOD:PUBLISH
BEGIN:VEVENT
UID:eb0cb8f7-215f-4fcf-94bf-20c998b017d4@mnasrullah.com
DTSTAMP:20260420T102251Z
DTSTART:20270110T220000Z
DTEND:20270110T230000Z
SUMMARY:KS - Surau Jumaat al-Syakirin Keramat
STATUS:CONFIRMED
LOCATION:Lokasi akan diumumkan
DESCRIPTION:Sunnah Ramadan
END:VEVENT
END:VCALENDAR