BEGIN:VCALENDAR
VERSION:2.0
PRODID:-//mnasrullah.com//Jadual//MS
CALSCALE:GREGORIAN
METHOD:PUBLISH
BEGIN:VEVENT
UID:e4daa285-fc92-4072-b63e-17373418d038@mnasrullah.com
DTSTAMP:20260420T102722Z
DTSTART:20270305T210000Z
DTEND:20270306T000000Z
SUMMARY:KS - Masjid Raudhatul Mukminin Sg. Pinang Klang
STATUS:CONFIRMED
LOCATION:Lokasi akan diumumkan
END:VEVENT
END:VCALENDAR