BEGIN:VCALENDAR
VERSION:2.0
PRODID:-//mnasrullah.com//Jadual//MS
CALSCALE:GREGORIAN
METHOD:PUBLISH
BEGIN:VEVENT
UID:e0b3d166-8022-497f-877d-d219043622b3@mnasrullah.com
DTSTAMP:20260420T102407Z
DTSTART:20261101T110000Z
DTEND:20261101T120000Z
SUMMARY:KM - Surau al-Ikhlas Taman Templer Saujana Rawang
STATUS:CONFIRMED
LOCATION:Lokasi akan diumumkan
DESCRIPTION:Riyadus Salihin
END:VEVENT
END:VCALENDAR