BEGIN:VCALENDAR
VERSION:2.0
PRODID:-//mnasrullah.com//Jadual//MS
CALSCALE:GREGORIAN
METHOD:PUBLISH
BEGIN:VEVENT
UID:d937dba8-2132-4e0b-875b-0b8602b3acf9@mnasrullah.com
DTSTAMP:20260420T102114Z
DTSTART:20260405T210000Z
DTEND:20260406T000000Z
SUMMARY:KS - Masjid Raudhatul Mukminin Sg. Pinang Klang
STATUS:CONFIRMED
LOCATION:Lokasi akan diumumkan
END:VEVENT
END:VCALENDAR