BEGIN:VCALENDAR
VERSION:2.0
PRODID:-//mnasrullah.com//Jadual//MS
CALSCALE:GREGORIAN
METHOD:PUBLISH
BEGIN:VEVENT
UID:d92fcb6b-da2e-4f8d-939c-18e9d88ab1b2@mnasrullah.com
DTSTAMP:20260420T102047Z
DTSTART:20270310T110000Z
DTEND:20270310T120000Z
SUMMARY:KM - Masjid al-Mukarramah BSD
STATUS:CONFIRMED
LOCATION:Lokasi akan diumumkan
END:VEVENT
END:VCALENDAR