BEGIN:VCALENDAR
VERSION:2.0
PRODID:-//mnasrullah.com//Jadual//MS
CALSCALE:GREGORIAN
METHOD:PUBLISH
BEGIN:VEVENT
UID:d76d8fdd-41db-46a6-ab81-6bb839305a15@mnasrullah.com
DTSTAMP:20260420T102544Z
DTSTART:20260605T210000Z
DTEND:20260606T000000Z
SUMMARY:KS - Masjid Raudhatul Mukminin Sg. Pinang Klang
STATUS:CONFIRMED
LOCATION:Lokasi akan diumumkan
END:VEVENT
END:VCALENDAR