BEGIN:VCALENDAR
VERSION:2.0
PRODID:-//mnasrullah.com//Jadual//MS
CALSCALE:GREGORIAN
METHOD:PUBLISH
BEGIN:VEVENT
UID:cf368831-bd5f-4c17-ac07-6f208b00219a@mnasrullah.com
DTSTAMP:20260420T102431Z
DTSTART:20260712T110000Z
DTEND:20260712T120000Z
SUMMARY:KM - Masjid Nurul Hidayah Kampung Pandan
STATUS:CONFIRMED
LOCATION:Lokasi akan diumumkan
END:VEVENT
END:VCALENDAR