BEGIN:VCALENDAR
VERSION:2.0
PRODID:-//mnasrullah.com//Jadual//MS
CALSCALE:GREGORIAN
METHOD:PUBLISH
BEGIN:VEVENT
UID:c930bef7-541a-497e-8262-2274c2363c76@mnasrullah.com
DTSTAMP:20260420T102537Z
DTSTART:20260409T050000Z
DTEND:20260409T060000Z
SUMMARY:KZ - Masjid Tengku Kelana Jaya
STATUS:CONFIRMED
LOCATION:Lokasi akan diumumkan
DESCRIPTION:200
END:VEVENT
END:VCALENDAR