BEGIN:VCALENDAR
VERSION:2.0
PRODID:-//mnasrullah.com//Jadual//MS
CALSCALE:GREGORIAN
METHOD:PUBLISH
BEGIN:VEVENT
UID:c6d8059c-0a30-4ef2-8091-ba9f9762bbc7@mnasrullah.com
DTSTAMP:20260420T102525Z
DTSTART:20270214T220000Z
DTEND:20270214T230000Z
SUMMARY:KS - Surau Jumaat al-Syakirin Keramat
STATUS:CONFIRMED
LOCATION:Lokasi akan diumumkan
DESCRIPTION:Sunnah Ramadan
END:VEVENT
END:VCALENDAR