BEGIN:VCALENDAR
VERSION:2.0
PRODID:-//mnasrullah.com//Jadual//MS
CALSCALE:GREGORIAN
METHOD:PUBLISH
BEGIN:VEVENT
UID:c34c1ebd-3ade-4393-b957-d6842074db62@mnasrullah.com
DTSTAMP:20260420T102543Z
DTSTART:20261011T110000Z
DTEND:20261011T120000Z
SUMMARY:KM - Masjid Nurul Hidayah Kampung Pandan
STATUS:CONFIRMED
LOCATION:Lokasi akan diumumkan
END:VEVENT
END:VCALENDAR