BEGIN:VCALENDAR
VERSION:2.0
PRODID:-//mnasrullah.com//Jadual//MS
CALSCALE:GREGORIAN
METHOD:PUBLISH
BEGIN:VEVENT
UID:bba112a3-e3da-4abb-9f42-c4d09a713955@mnasrullah.com
DTSTAMP:20260420T102115Z
DTSTART:20260714T110000Z
DTEND:20260714T120000Z
SUMMARY:KM - Masjid al-Aman Lembah Jaya
STATUS:CONFIRMED
LOCATION:Lokasi akan diumumkan
END:VEVENT
END:VCALENDAR