BEGIN:VCALENDAR
VERSION:2.0
PRODID:-//mnasrullah.com//Jadual//MS
CALSCALE:GREGORIAN
METHOD:PUBLISH
BEGIN:VEVENT
UID:acbd14f3-0653-4685-a8b5-ce342b5ffc05@mnasrullah.com
DTSTAMP:20260420T102257Z
DTSTART:20261013T110000Z
DTEND:20261013T120000Z
SUMMARY:KM - Masjid al-Aman Lembah Jaya
STATUS:CONFIRMED
LOCATION:Lokasi akan diumumkan
END:VEVENT
END:VCALENDAR