BEGIN:VCALENDAR
VERSION:2.0
PRODID:-//mnasrullah.com//Jadual//MS
CALSCALE:GREGORIAN
METHOD:PUBLISH
BEGIN:VEVENT
UID:a62fb1d0-8b52-40ba-aa00-d2b4093f3698@mnasrullah.com
DTSTAMP:20260420T102209Z
DTSTART:20260505T210000Z
DTEND:20260506T000000Z
SUMMARY:KS - Masjid Raudhatul Mukminin Sg. Pinang Klang
STATUS:CONFIRMED
LOCATION:Lokasi akan diumumkan
END:VEVENT
END:VCALENDAR