BEGIN:VCALENDAR
VERSION:2.0
PRODID:-//mnasrullah.com//Jadual//MS
CALSCALE:GREGORIAN
METHOD:PUBLISH
BEGIN:VEVENT
UID:9be74622-fda0-4c0a-8b01-26b84ed4558b@mnasrullah.com
DTSTAMP:20260420T102721Z
DTSTART:20260908T110000Z
DTEND:20260908T120000Z
SUMMARY:KM - Masjid al-Aman Lembah Jaya
STATUS:CONFIRMED
LOCATION:Lokasi akan diumumkan
END:VEVENT
END:VCALENDAR