BEGIN:VCALENDAR
VERSION:2.0
PRODID:-//mnasrullah.com//Jadual//MS
CALSCALE:GREGORIAN
METHOD:PUBLISH
BEGIN:VEVENT
UID:9a04d3c7-f760-46f6-86ff-04c0eebf66e0@mnasrullah.com
DTSTAMP:20260420T102710Z
DTSTART:20261209T110000Z
DTEND:20261209T120000Z
SUMMARY:KM - Masjid al-Mukarramah BSD
STATUS:CONFIRMED
LOCATION:Lokasi akan diumumkan
END:VEVENT
END:VCALENDAR