BEGIN:VCALENDAR
VERSION:2.0
PRODID:-//mnasrullah.com//Jadual//MS
CALSCALE:GREGORIAN
METHOD:PUBLISH
BEGIN:VEVENT
UID:978876ee-8175-4a1f-85ed-d5eed0772244@mnasrullah.com
DTSTAMP:20260420T102722Z
DTSTART:20260330T110000Z
DTEND:20260330T140000Z
SUMMARY:KM - Masjid Raudhatul Mukminin Sg. Pinang Klang
STATUS:CONFIRMED
LOCATION:Lokasi akan diumumkan
END:VEVENT
END:VCALENDAR