BEGIN:VCALENDAR
VERSION:2.0
PRODID:-//mnasrullah.com//Jadual//MS
CALSCALE:GREGORIAN
METHOD:PUBLISH
BEGIN:VEVENT
UID:8b4bdf62-71dc-4df7-9775-88b361116d31@mnasrullah.com
DTSTAMP:20260420T102216Z
DTSTART:20270103T110000Z
DTEND:20270103T120000Z
SUMMARY:KM - Surau al-Ikhlas Taman Templer Saujana Rawang
STATUS:CONFIRMED
LOCATION:Lokasi akan diumumkan
DESCRIPTION:Riyadus Salihin
END:VEVENT
END:VCALENDAR