BEGIN:VCALENDAR
VERSION:2.0
PRODID:-//mnasrullah.com//Jadual//MS
CALSCALE:GREGORIAN
METHOD:PUBLISH
BEGIN:VEVENT
UID:76292aad-7074-422f-8fa9-0bae060c4ecd@mnasrullah.com
DTSTAMP:20260420T102219Z
DTSTART:20260811T110000Z
DTEND:20260811T120000Z
SUMMARY:KM - Masjid al-Aman Lembah Jaya
STATUS:CONFIRMED
LOCATION:Lokasi akan diumumkan
END:VEVENT
END:VCALENDAR