BEGIN:VCALENDAR
VERSION:2.0
PRODID:-//mnasrullah.com//Jadual//MS
CALSCALE:GREGORIAN
METHOD:PUBLISH
BEGIN:VEVENT
UID:7570fcad-f266-433c-bb88-bae9b17f23e4@mnasrullah.com
DTSTAMP:20260420T102538Z
DTSTART:20260316T130000Z
DTEND:20260316T140000Z
SUMMARY:KI - Surau Al-Hijrah PPR Pekan Batu
STATUS:CONFIRMED
LOCATION:Lokasi akan diumumkan
END:VEVENT
END:VCALENDAR