BEGIN:VCALENDAR
VERSION:2.0
PRODID:-//mnasrullah.com//Jadual//MS
CALSCALE:GREGORIAN
METHOD:PUBLISH
BEGIN:VEVENT
UID:7473c1fa-d465-4cb4-8ec1-256cb02f2ad7@mnasrullah.com
DTSTAMP:20260420T102256Z
DTSTART:20260909T110000Z
DTEND:20260909T120000Z
SUMMARY:KM - Masjid al-Mukarramah BSD
STATUS:CONFIRMED
LOCATION:Lokasi akan diumumkan
END:VEVENT
END:VCALENDAR