BEGIN:VCALENDAR
VERSION:2.0
PRODID:-//mnasrullah.com//Jadual//MS
CALSCALE:GREGORIAN
METHOD:PUBLISH
BEGIN:VEVENT
UID:612e11ea-4514-4612-a8a4-fd841241ec3c@mnasrullah.com
DTSTAMP:20260420T102352Z
DTSTART:20270112T110000Z
DTEND:20270112T120000Z
SUMMARY:KM - Masjid al-Aman Lembah Jaya
STATUS:CONFIRMED
LOCATION:Lokasi akan diumumkan
END:VEVENT
END:VCALENDAR