BEGIN:VCALENDAR
VERSION:2.0
PRODID:-//mnasrullah.com//Jadual//MS
CALSCALE:GREGORIAN
METHOD:PUBLISH
BEGIN:VEVENT
UID:5120e202-0c2e-468d-9e68-3b30e2a55b6a@mnasrullah.com
DTSTAMP:20260420T102251Z
DTSTART:20260614T110000Z
DTEND:20260614T120000Z
SUMMARY:KM - Masjid Nurul Hidayah Kampung Pandan
STATUS:CONFIRMED
LOCATION:Lokasi akan diumumkan
END:VEVENT
END:VCALENDAR