BEGIN:VCALENDAR
VERSION:2.0
PRODID:-//mnasrullah.com//Jadual//MS
CALSCALE:GREGORIAN
METHOD:PUBLISH
BEGIN:VEVENT
UID:4d302dc1-ebf5-41a7-8759-33e30df22710@mnasrullah.com
DTSTAMP:20260420T102114Z
DTSTART:20270207T110000Z
DTEND:20270207T120000Z
SUMMARY:KM - Surau al-Ikhlas Taman Templer Saujana Rawang
STATUS:CONFIRMED
LOCATION:Lokasi akan diumumkan
DESCRIPTION:Riyadus Salihin
END:VEVENT
END:VCALENDAR