BEGIN:VCALENDAR
VERSION:2.0
PRODID:-//mnasrullah.com//Jadual//MS
CALSCALE:GREGORIAN
METHOD:PUBLISH
BEGIN:VEVENT
UID:4b00cdeb-1fc0-426b-ad8c-92d52ae79971@mnasrullah.com
DTSTAMP:20260420T102218Z
DTSTART:20260805T210000Z
DTEND:20260806T000000Z
SUMMARY:KS - Masjid Raudhatul Mukminin Sg. Pinang Klang
STATUS:CONFIRMED
LOCATION:Lokasi akan diumumkan
END:VEVENT
END:VCALENDAR