BEGIN:VCALENDAR
VERSION:2.0
PRODID:-//mnasrullah.com//Jadual//MS
CALSCALE:GREGORIAN
METHOD:PUBLISH
BEGIN:VEVENT
UID:44c876ce-4cfa-48d5-975c-63b5539d9221@mnasrullah.com
DTSTAMP:20260420T102249Z
DTSTART:20260812T110000Z
DTEND:20260812T120000Z
SUMMARY:KM - Masjid al-Mukarramah BSD
STATUS:CONFIRMED
LOCATION:Lokasi akan diumumkan
END:VEVENT
END:VCALENDAR