BEGIN:VCALENDAR
VERSION:2.0
PRODID:-//mnasrullah.com//Jadual//MS
CALSCALE:GREGORIAN
METHOD:PUBLISH
BEGIN:VEVENT
UID:4238b0a4-22c1-4fb5-9b06-345dfa45975d@mnasrullah.com
DTSTAMP:20260420T102431Z
DTSTART:20261213T110000Z
DTEND:20261213T120000Z
SUMMARY:KM - Masjid Nurul Hidayah Kampung Pandan
STATUS:CONFIRMED
LOCATION:Lokasi akan diumumkan
END:VEVENT
END:VCALENDAR