BEGIN:VCALENDAR
VERSION:2.0
PRODID:-//mnasrullah.com//Jadual//MS
CALSCALE:GREGORIAN
METHOD:PUBLISH
BEGIN:VEVENT
UID:3c533564-d8f5-4dc4-a524-f843f015663d@mnasrullah.com
DTSTAMP:20260420T102641Z
DTSTART:20270309T110000Z
DTEND:20270309T120000Z
SUMMARY:KM - Masjid al-Aman Lembah Jaya
STATUS:CONFIRMED
LOCATION:Lokasi akan diumumkan
END:VEVENT
END:VCALENDAR