BEGIN:VCALENDAR
VERSION:2.0
PRODID:-//mnasrullah.com//Jadual//MS
CALSCALE:GREGORIAN
METHOD:PUBLISH
BEGIN:VEVENT
UID:3a6e199b-419a-414d-9c76-355e774c4cd1@mnasrullah.com
DTSTAMP:20260420T102525Z
DTSTART:20261108T220000Z
DTEND:20261108T230000Z
SUMMARY:KS - Surau Jumaat al-Syakirin Keramat
STATUS:CONFIRMED
LOCATION:Lokasi akan diumumkan
DESCRIPTION:Sunnah Ramadan
END:VEVENT
END:VCALENDAR