BEGIN:VCALENDAR
VERSION:2.0
PRODID:-//mnasrullah.com//Jadual//MS
CALSCALE:GREGORIAN
METHOD:PUBLISH
BEGIN:VEVENT
UID:3862fa00-6e48-48d5-99ef-71c50f4e4796@mnasrullah.com
DTSTAMP:20260420T102211Z
DTSTART:20260510T220000Z
DTEND:20260510T230000Z
SUMMARY:KS - Surau Jumaat al-Syakirin Keramat
STATUS:CONFIRMED
LOCATION:Lokasi akan diumumkan
DESCRIPTION:Sunnah Ramadan
END:VEVENT
END:VCALENDAR