BEGIN:VCALENDAR
VERSION:2.0
PRODID:-//mnasrullah.com//Jadual//MS
CALSCALE:GREGORIAN
METHOD:PUBLISH
BEGIN:VEVENT
UID:3618e34b-592f-4c11-bc57-defdb3c81ca7@mnasrullah.com
DTSTAMP:20260420T102250Z
DTSTART:20260809T110000Z
DTEND:20260809T120000Z
SUMMARY:KM - Masjid Nurul Hidayah Kampung Pandan
STATUS:CONFIRMED
LOCATION:Lokasi akan diumumkan
END:VEVENT
END:VCALENDAR