BEGIN:VCALENDAR
VERSION:2.0
PRODID:-//mnasrullah.com//Jadual//MS
CALSCALE:GREGORIAN
METHOD:PUBLISH
BEGIN:VEVENT
UID:357beca6-309c-49b3-a5b6-881a13d92b27@mnasrullah.com
DTSTAMP:20260420T102657Z
DTSTART:20270209T110000Z
DTEND:20270209T120000Z
SUMMARY:KM - Masjid al-Aman Lembah Jaya
STATUS:CONFIRMED
LOCATION:Lokasi akan diumumkan
END:VEVENT
END:VCALENDAR