BEGIN:VCALENDAR
VERSION:2.0
PRODID:-//mnasrullah.com//Jadual//MS
CALSCALE:GREGORIAN
METHOD:PUBLISH
BEGIN:VEVENT
UID:30f332f0-04ba-412c-8e3a-f7d047ff25b6@mnasrullah.com
DTSTAMP:20260420T102721Z
DTSTART:20261208T110000Z
DTEND:20261208T120000Z
SUMMARY:KM - Masjid al-Aman Lembah Jaya
STATUS:CONFIRMED
LOCATION:Lokasi akan diumumkan
END:VEVENT
END:VCALENDAR