BEGIN:VCALENDAR
VERSION:2.0
PRODID:-//mnasrullah.com//Jadual//MS
CALSCALE:GREGORIAN
METHOD:PUBLISH
BEGIN:VEVENT
UID:305940a2-b187-4a63-9155-912c806b4f11@mnasrullah.com
DTSTAMP:20260420T102545Z
DTSTART:20270113T110000Z
DTEND:20270113T120000Z
SUMMARY:KM - Masjid al-Mukarramah BSD
STATUS:CONFIRMED
LOCATION:Lokasi akan diumumkan
END:VEVENT
END:VCALENDAR