BEGIN:VCALENDAR
VERSION:2.0
PRODID:-//mnasrullah.com//Jadual//MS
CALSCALE:GREGORIAN
METHOD:PUBLISH
BEGIN:VEVENT
UID:304babdd-415e-4ae0-bdcc-a58a61ac0236@mnasrullah.com
DTSTAMP:20260420T102212Z
DTSTART:20260414T110000Z
DTEND:20260414T120000Z
SUMMARY:KM - Masjid al-Aman Lembah Jaya
STATUS:CONFIRMED
LOCATION:Lokasi akan diumumkan
END:VEVENT
END:VCALENDAR