BEGIN:VCALENDAR
VERSION:2.0
PRODID:-//mnasrullah.com//Jadual//MS
CALSCALE:GREGORIAN
METHOD:PUBLISH
BEGIN:VEVENT
UID:2edf92eb-979d-4f38-b77f-36cdc4576f19@mnasrullah.com
DTSTAMP:20260420T102122Z
DTSTART:20261213T220000Z
DTEND:20261213T230000Z
SUMMARY:KS - Surau Jumaat al-Syakirin Keramat
STATUS:CONFIRMED
LOCATION:Lokasi akan diumumkan
DESCRIPTION:Sunnah Ramadan
END:VEVENT
END:VCALENDAR