BEGIN:VCALENDAR
VERSION:2.0
PRODID:-//mnasrullah.com//Jadual//MS
CALSCALE:GREGORIAN
METHOD:PUBLISH
BEGIN:VEVENT
UID:25527917-2e2e-449d-9a0a-5761b31ea359@mnasrullah.com
DTSTAMP:20260420T102354Z
DTSTART:20261206T110000Z
DTEND:20261206T120000Z
SUMMARY:KM - Surau al-Ikhlas Taman Templer Saujana Rawang
STATUS:CONFIRMED
LOCATION:Lokasi akan diumumkan
DESCRIPTION:Riyadus Salihin
END:VEVENT
END:VCALENDAR