BEGIN:VCALENDAR
VERSION:2.0
PRODID:-//mnasrullah.com//Jadual//MS
CALSCALE:GREGORIAN
METHOD:PUBLISH
BEGIN:VEVENT
UID:1cc8a803-f8b2-4526-9146-ae9d65f9641f@mnasrullah.com
DTSTAMP:20260420T102710Z
DTSTART:20260906T110000Z
DTEND:20260906T120000Z
SUMMARY:KM - Surau al-Ikhlas Taman Templer Saujana Rawang
STATUS:CONFIRMED
LOCATION:Lokasi akan diumumkan
DESCRIPTION:Riyadus Salihin
END:VEVENT
END:VCALENDAR