BEGIN:VCALENDAR
VERSION:2.0
PRODID:-//mnasrullah.com//Jadual//MS
CALSCALE:GREGORIAN
METHOD:PUBLISH
BEGIN:VEVENT
UID:199e0bbc-1c6d-440f-8432-ef6361f043b7@mnasrullah.com
DTSTAMP:20260420T102359Z
DTSTART:20260513T110000Z
DTEND:20260513T120000Z
SUMMARY:KM - Masjid al-Mukarramah BSD
STATUS:CONFIRMED
LOCATION:Lokasi akan diumumkan
END:VEVENT
END:VCALENDAR