BEGIN:VCALENDAR
VERSION:2.0
PRODID:-//mnasrullah.com//Jadual//MS
CALSCALE:GREGORIAN
METHOD:PUBLISH
BEGIN:VEVENT
UID:194ad4f4-5060-4777-8912-c72d8142e30c@mnasrullah.com
DTSTAMP:20260420T102711Z
DTSTART:20260408T110000Z
DTEND:20260408T120000Z
SUMMARY:KM - Masjid al-Mukarramah BSD
STATUS:CONFIRMED
LOCATION:Lokasi akan diumumkan
END:VEVENT
END:VCALENDAR