BEGIN:VCALENDAR
VERSION:2.0
PRODID:-//mnasrullah.com//Jadual//MS
CALSCALE:GREGORIAN
METHOD:PUBLISH
BEGIN:VEVENT
UID:15daee44-05b3-4480-827e-74b09c15e48e@mnasrullah.com
DTSTAMP:20260420T102432Z
DTSTART:20261108T110000Z
DTEND:20261108T120000Z
SUMMARY:KM - Masjid Nurul Hidayah Kampung Pandan
STATUS:CONFIRMED
LOCATION:Lokasi akan diumumkan
END:VEVENT
END:VCALENDAR