BEGIN:VCALENDAR
VERSION:2.0
PRODID:-//mnasrullah.com//Jadual//MS
CALSCALE:GREGORIAN
METHOD:PUBLISH
BEGIN:VEVENT
UID:0ea46d2c-e987-40c6-9dd8-9246cf1bffa5@mnasrullah.com
DTSTAMP:20260420T102210Z
DTSTART:20260401T000000Z
DTEND:20260401T010000Z
SUMMARY:Zayan FM - Kalkulator Musafir
STATUS:CONFIRMED
LOCATION:https://maps.app.goo.gl/KLcwQRqEMzzTtZyFA?g_st=ic
END:VEVENT
END:VCALENDAR