BEGIN:VCALENDAR
VERSION:2.0
PRODID:-//mnasrullah.com//Jadual//MS
CALSCALE:GREGORIAN
METHOD:PUBLISH
BEGIN:VEVENT
UID:081eb540-4f42-46ea-8922-a642fef84d8b@mnasrullah.com
DTSTAMP:20260420T102256Z
DTSTART:20261205T210000Z
DTEND:20261206T000000Z
SUMMARY:KS - Masjid Raudhatul Mukminin Sg. Pinang Klang
STATUS:CONFIRMED
LOCATION:Lokasi akan diumumkan
END:VEVENT
END:VCALENDAR